BEGIN:VCALENDAR
CALSCALE:GREGORIAN
X-WR-TIMEZONE;VALUE=TEXT:GMT
PRODID:PEAK Corporation - piCal -
X-WR-CALNAME;VALUE=TEXT:市民活動団体、NPO向け「実務勉強会」
VERSION:2.0
METHOD:PUBLISH
BEGIN:VTIMEZONE
TZID:GMT
BEGIN:STANDARD
DTSTART:19390101T000000
TZOFFSETFROM:+0000
TZOFFSETTO:+0000
TZNAME:GMT
END:STANDARD
END:VTIMEZONE
BEGIN:VEVENT
DTSTART:20161216T050000Z
DTEND:20161216T070000Z
LOCATION:中央公民館　
TRANSP:OPAQUE
SEQUENCE:1
UID:pical060-e3e6e3f16364ad9ed79d7077651ba059
DTSTAMP:20161130T125022Z
CATEGORIES:
DESCRIPTION: 尼崎市内のNPO(広義)の交流を推進し、NPO活動の進展を図ることを目的として\n発足しました「あまがさきNPO交流推進ネットワーク」が、尼崎市民活動セン\nターの開設を目指して設置したセンター準備室の活動として、9月から12月まで\nで3回、市民活動を支援するための「実務勉強会」を開催します。\n現在活動を展開されている団体や個人の方、これから活動を開始したいと考え\nている方、どうぞ奮ってご参加ください。\n■団体の運営勉強会 資金調達編 \n ・日 時:12月16日(金)14時〜16時\n ・場 所:中央公民館(予定) \n ・講 師:二宮 毅行氏(生きがいしごとサポートセンター阪神南 センター長)\n ・会 費:400円\n ・詳細は追ってご案内いたします。\n【お問合せ&amp;お申込み】\n 生きがいしごとサポートセンター阪神南(担当:二宮)\n TEL:06-6412-8448 /FAX:06-6412-8444\n Email:ikisapo@npos.cc
SUMMARY:市民活動団体、NPO向け「実務勉強会」
PRIORITY:0
CLASS:PUBLIC
END:VEVENT
END:VCALENDAR
