BEGIN:VCALENDAR
CALSCALE:GREGORIAN
X-WR-TIMEZONE;VALUE=TEXT:GMT
PRODID:PEAK Corporation - piCal -
X-WR-CALNAME;VALUE=TEXT:防災フォーラム「災害時の非常食」
VERSION:2.0
METHOD:PUBLISH
BEGIN:VTIMEZONE
TZID:GMT
BEGIN:STANDARD
DTSTART:19390101T000000
TZOFFSETFROM:+0000
TZOFFSETTO:+0000
TZNAME:GMT
END:STANDARD
END:VTIMEZONE
BEGIN:VEVENT
DTSTART:20191026T000000Z
DTEND:20191026T080000Z
LOCATION:シンフォニー研修ルーム（土井ビル４F）
TRANSP:OPAQUE
SEQUENCE:0
UID:pical060-a59916599d0e8cd0bd333520372174d7
DTSTAMP:20190905T144742Z
CATEGORIES:
DESCRIPTION: 阪神・淡路大震災から、もうすぐ25周年を迎えます。\nこの間、防災に関する様々な取り組みが行われ、地域の施設整備も少しづつ進んでいます。\nこうした取り組みを踏まえ、今回は「災害時の非常食」をテーマに、防災フォーラムを行います。\n\n【内容】\n災害時の非常食をテーマに講演と災害時クロスロードゲーム（オリジナルの非常食編をつくる）を行う。非常食の1つとして、“お酒”を災害時の防災備蓄品に活用する方法などを紹介します。年に一度の防災食の見直しを、コミュニティーの場作りにしませんか。\n\n●第1部　基調講演　　「災害防災と非常食」\n　講師：高橋　守さん（ひょうごボランタリープラザ所長、災害救援ボランティア活動支援関係団体連絡会議）\n\n●第2部　クロスロードゲーム　「あなたならどうする災害時の食事」。簡単な質問に沿って、意見交換、情報共有をします。そして、非常時を意識した「日常活動」とは？ちょっとした意識が防災につながります。\n\n●第3部交流会\n　「災害時の非常食とは？災害時の非常食を、実際に食べてみよう！」をテーマに行います。\n　交流会は、飲食を取りながらになります。　\n　こちらの方の希望者は、1500円が必要です。\n\n　※お酒を非常食として活用する方法、防災備蓄にオススメできる酒も紹介します。（意外と知られていませんが、酒は賞味期限もなく、常温で保存でき、料理にも使え、万能です。）\n\n日時：10月26日（土） 13：30〜 17：00\n会場：シンフォニーセミナールーム\n　阪神尼崎駅前土井ビル4階（兵庫県尼崎市御園町5）\n\n【お問合せ先】\n　NPO法人シンフォニー\n（担当：洪玉英）\n　TEL：06-6412-8025　FAX：06-6412-8448\n　<a href="mailto:info@npos.cc">info@npos.cc</a>\n\n＊この事業は、ろうきんパートナー制度を活用して実施します。\n
SUMMARY:防災フォーラム「災害時の非常食」
PRIORITY:0
CLASS:PUBLIC
END:VEVENT
END:VCALENDAR
