BEGIN:VCALENDAR
CALSCALE:GREGORIAN
X-WR-TIMEZONE;VALUE=TEXT:GMT
PRODID:PEAK Corporation - piCal -
X-WR-CALNAME;VALUE=TEXT:ふるさと納税版クラウドファンディング説明会
VERSION:2.0
METHOD:PUBLISH
BEGIN:VTIMEZONE
TZID:GMT
BEGIN:STANDARD
DTSTART:19390101T000000
TZOFFSETFROM:+0000
TZOFFSETTO:+0000
TZNAME:GMT
END:STANDARD
END:VTIMEZONE
BEGIN:VEVENT
DTSTART:20220622T050000Z
DTEND:20220622T080000Z
LOCATION:キャリアデザインスクール（NPO法人シンフォニー）
TRANSP:OPAQUE
SEQUENCE:0
UID:pical060-938b5804ed3ce315d618dbb52236beb2
DTSTAMP:20220601T034107Z
CATEGORIES:
DESCRIPTION:資金戦略のたて、持続可能な組織作りに挑戦しましょう！\n\n　6月22日（水）開催します！\n\n　尼崎市協働推進課より3年目に入る「ふるさと納税を通じた特定非営利活動促進事業」についてお話しいただきます。\n　今年度新しく設置した、100万円以上のクラウドファンディング、10万円以上の「企業版ふるさと納税型特定非営利活動促進事業」について詳しく説明いただきます。\n\n（詳しくは尼崎市ホームページ）\n　<a href="https://www.city.amagasaki.hyogo.jp/kurashi/siminsanka/130katudo_sien/1029790/1029791.html\n\n申請事業について質問などどうぞ。\n\n日時：6月22日（水）午後２時〜午後3時\n会場：阪神尼崎駅北側徒歩２分　太陽ビル５階\n　　　NPO法人シンフォニー会議室\n　　　http://npos.cc/modules/cnts/index.php?id=1\n主催：尼崎NPO法人活動協議会\nZoom参加希望者は、事前に連絡ください\n連絡：090-8793-2133　F077-598-1891\nMAIL：<a href="mailto:nposuishin@yahoo.co.jp">nposuishin@yahoo.co.jp</a>\n\n\nなお、午後1時〜午後2時まで、尼崎NPO法人活動協議会の総会を開催します。\n総会内容は次の通りです。\n　総会あいさつ：代表　山崎　勲（ＮＰＯ法人シンフォニー）\n　活動報告：事務局長　広瀬　徹（ＮＰＯ法人尼崎障害者センター\n　会計報告：会計　森松信二（NPO法人兵庫森林サポートセンター）\n討議：2022年度の尼崎NPO法人活動協議会活動計画について\n　　　（コロナ禍の孤立を防ぎ、連携の輪を広げる）" target="_blank">https://www.city.amagasaki.hyogo.jp/kurashi/siminsanka/130katudo_sien/1029790/1029791.html\n\n申請事業について質問などどうぞ。\n\n日時：6月22日（水）午後２時〜午後3時\n会場：阪神尼崎駅北側徒歩２分　太陽ビル５階\n　　　NPO法人シンフォニー会議室\n　　　http://npos.cc/modules/cnts/index.php?id=1\n主催：尼崎NPO法人活動協議会\nZoom参加希望者は、事前に連絡ください\n連絡：090-8793-2133　F077-598-1891\nMAIL：<a href="mailto:nposuishin@yahoo.co.jp">nposuishin@yahoo.co.jp</a>\n\n\nなお、午後1時〜午後2時まで、尼崎NPO法人活動協議会の総会を開催します。\n総会内容は次の通りです。\n　総会あいさつ：代表　山崎　勲（ＮＰＯ法人シンフォニー）\n　活動報告：事務局長　広瀬　徹（ＮＰＯ法人尼崎障害者センター\n　会計報告：会計　森松信二（NPO法人兵庫森林サポートセンター）\n討議：2022年度の尼崎NPO法人活動協議会活動計画について\n　　　（コロナ禍の孤立を防ぎ、連携の輪を広げる）</a>
SUMMARY:ふるさと納税版クラウドファンディング説明会
PRIORITY:0
CLASS:PUBLIC
END:VEVENT
END:VCALENDAR
